BEGIN:VCALENDAR
VERSION:2.0
PRODID:-//wp-events-plugin.com//6.6.4.4//EN
TZID:America/New_York
X-WR-TIMEZONE:America/New_York
BEGIN:VEVENT
UID:2048@capecodnordicwalking.org
DTSTART;TZID=America/New_York:20260428T153000
DTEND;TZID=America/New_York:20260428T174500
DTSTAMP:20260423T223642Z
URL:https://capecodnordicwalking.org/events/intermediate-hatches-harbor-to
 -race-point-light-provincetown-3-5-miles-tuesday/
SUMMARY:Intermediate: Hatches Harbor to Race Point Light\, Provincetown\, 3
 .5 miles\, Tuesday
DESCRIPTION:Feeling accomplished at the Hi Beg/Lo Intermed level and ready 
 to go farther and pick up the pace? Give this one a try! We’ll cross the
  Hatches Harbor Dike and marsh to reach Race Point Light\, enjoying stunni
 ng views and the quality of late-day lighting that put Provincetown on the
  map for artists in the late 1800s.\n\nIf you are an intermediate/advanced
  or advanced level walker\, please let walkers who wish to step up to inte
 rmediate level have this opportunity. We typically only offer this at a hi
 gher level and we want to give others a chance. If there are spots availab
 le the day before\, feel free to book. Thank you.\nMeet at 3:15 pm to sign
  in and stretch. We’ll begin walking promptly at 3:30. Route is tide dep
 endent\; please be on time. Hosted by Sue Moynihan with Sweep TBD. Read to
  the bottom for directions to meeting point. \nPrerequisites: Instructiona
 l clinic and ability to walk 3.5 miles at a moderate pace\, including some
  sand.\nDistance: 3.5 miles. No turn-back or shorter option.\nPace: 22/23-
 min miles\, moderate on hard pack\, slower on the sand\, with rest and vie
 w stops every 1/2 mile or so.\nTerrain: 1.5 miles on sand\, 2 miles on har
 d pack. Shoes will likely get wet as we cross the marsh.\nFor Your Safety:
  Consider the weather forecast when booking a walk. WATER MUST BE CARRIED 
 ON ALL WALKS! In consideration of personal and group safety\, if you arriv
 e without water\, you will not be allowed to walk. Dress for the weather a
 nd protect yourself from the elements. Choose appropriate footwear for tra
 il conditions. Use repellent to protect yourself from ticks\, which are ac
 tive year-round.\n\n\n 	Limit 1 walk per day.\n 	Wear your CCNW ID badge.\
 n 	Sand baskets helpful.\n 	Full sun\, often windy. Layers\, sunglasses\, 
 and a hat and ear protection suggested if it’s a chilly day.\n 	Afternoo
 n\; no turkey hunting\, so blaze orange not necessary.\n 	No restrooms or 
 water. Bring tissue in a plastic bag in case of a bio break need. Prior to
  the walk\, consider using restrooms at Herring Cove Beach (at the end of 
 the parking lot to the right of the beach entrance) or Province Lands Visi
 tor Center located on Race Pt. Road (restroom building is near the parking
  lot).\n 	If your plans change\, kindly cancel your booking at least 24 ho
 urs in advance of walk start time so other walkers may join.\n\nThis walk 
 is authorized under a National Park Service Special Use Permit. \nWalk may
  be canceled\, changed\, or rescheduled for weather or other reasons. Canc
 ellation decision will be made at least 2 hours in advance. **Check your e
 mail (including spam) and this event listing\, including comments\, below\
 , before driving to the walk. ** If a walk is canceled\, registrants will 
 receive a system-generated email\, and the walk will no longer be visible 
 in the event listing or on the calendar.\nDirections: Meet at Hatches Harb
 or Trailhead\, Province Lands Road\, Provincetown. We will need 4 cars to 
 park along the road to save room for other walkers. 42.06177° N\, 70.2175
 0° W. **Allow extra travel time for Rt. 6 construction through Wellfleet.
 **\nMeeting point: Hatches Harbor Trailhead on Province Lands Road\, Provi
 ncetown.\n\n
ATTACH;FMTTYPE=image/jpeg:https://capecodnordicwalking.org/wp-content/uplo
 ads/2026/04/IMG_4116.jpeg
CATEGORIES:Outer Cape,Provincetown,Walk
END:VEVENT
BEGIN:VTIMEZONE
TZID:America/New_York
X-LIC-LOCATION:America/New_York
BEGIN:DAYLIGHT
DTSTART:20260308T030000
TZOFFSETFROM:-0500
TZOFFSETTO:-0400
TZNAME:EDT
END:DAYLIGHT
END:VTIMEZONE
END:VCALENDAR