BEGIN:VCALENDAR
VERSION:2.0
PRODID:-//wp-events-plugin.com//6.6.4.4//EN
TZID:America/New_York
X-WR-TIMEZONE:America/New_York
BEGIN:VEVENT
UID:2050@capecodnordicwalking.org
DTSTART;TZID=America/New_York:20260423T124500
DTEND;TZID=America/New_York:20260423T124500
DTSTAMP:20260419T232240Z
URL:https://capecodnordicwalking.org/events/intermediate-drummer-boy-park-
 wing-island-brewster-2-8-3-5-mi-thursday-2/
SUMMARY:Intermediate: Drummer Boy Park &amp\; Wing Island\, Brewster\, ~2.8
 /3.5 mi (Thursday)
DESCRIPTION:Visit a typical Cape Cod Bay habitat on a walk around Drummer B
 oy Park and out to Wing Island. Enjoy the panoramic views of the Brewster 
 flats at low tide. \nMeet 10:45 am to check-in and stretch. We’ll begin
  walking promptly at 11:00. Hosted by Ellie Devlin with Sweep TBD.\nPrereq
 uisite: Instructional clinic and ability to walk 3+ miles at a steady\, mo
 derate pace over a variety of terrain\nDistance: 2.8 miles with the option
  of adding the John &amp\; Kristi Hay 0.7 mi Trail\nPace: 22 min miles. Mo
 derate\, with periodic stops for water &amp\; the opportunity to appreciat
 e the view. Perfect for those who want to increase their distance between 
 brief stops.\nTerrain: Pavement (tips required)\, wooded/leaves &amp\; pin
 e needles\, wooden planks that could be a little wet\, some soft sand on t
 he Brewster flats &amp\; the beach at low tide\, &amp\; stairs.\nWe will w
 alk from Drummer Boy Park to Wing Island.  After crossing a small dune\, 
 we'll walk to Paines Creek and back via Quivett Creek before returning DBP
 . Those who are interested in continuing to the John &amp\; Kristi Hay Tra
 il will cross the street to the 0.6 mi wooded trail.\nFor Your Safety: Con
 sider the weather forecast when booking a walk. WATER MUST BE CARRIED ON A
 LL WALKS! In consideration of personal and group safety\, if you arrive wi
 thout water\, you will not be allowed to walk. Dress for the weather and p
 rotect yourself from the elements. Choose appropriate footwear for trail c
 onditions. Use repellent to protect yourself from ticks\, which are active
  year-round. Wear blaze orange for visibility and safety during hunting se
 ason.\nLimit 1 walk per day \n\n 	Wear your CCNW ID badge.\n 	Rubber tips
  required.\n 	No restrooms or water available. Bring tissue in a plastic b
 ag in case of a bio break need. \n 	\nIf your plans change\, kindly cancel
  your booking at least 24 hours in advance of walk start time so other wal
 kers may join.\n\n\nWalk may be canceled\, changed\, or rescheduled for we
 ather or other reasons. Cancellation decision will be made at least 2 hour
 s in advance. **Check your email (including spam) and this event listing b
 efore driving to the walk.** If a walk is canceled\, registrants will rece
 ive a system-generated email\, and the walk will no longer be visible in t
 he event listing or on the calendar. \nDirections: Drummer Boy Park\, 773 
 Main St (6A)\, Brewster
ATTACH;FMTTYPE=image/jpeg:https://capecodnordicwalking.org/wp-content/uplo
 ads/2026/04/Wing-Island-1-scaled.jpg
CATEGORIES:Brewster,Lower Cape,Walk
END:VEVENT
BEGIN:VTIMEZONE
TZID:America/New_York
X-LIC-LOCATION:America/New_York
BEGIN:DAYLIGHT
DTSTART:20260308T030000
TZOFFSETFROM:-0500
TZOFFSETTO:-0400
TZNAME:EDT
END:DAYLIGHT
END:VTIMEZONE
END:VCALENDAR