BEGIN:VCALENDAR
VERSION:2.0
PRODID:-//wp-events-plugin.com//6.6.4.4//EN
TZID:America/New_York
X-WR-TIMEZONE:America/New_York
BEGIN:VEVENT
UID:2064@capecodnordicwalking.org
DTSTART;TZID=America/New_York:20260424T100000
DTEND;TZID=America/New_York:20260424T113000
DTSTAMP:20260422T005330Z
URL:https://capecodnordicwalking.org/events/high-beginner-historical-socie
 ty-of-old-yarmouth-yarmouth-port-2-miles-friday/
SUMMARY:High beginner\, Historical Society of Old Yarmouth\, Yarmouth Port\
 , 2 miles\, Friday
DESCRIPTION:Beautiful nature trail that meanders through historical golf co
 urse offering a variety of scenic views.\nMeet at 9:45 am to sign in and s
 tretch. We’ll begin walking promptly at 10am. \nHosted by Norma Ganderso
 n with Sweep TBD. Read to the bottom for directions for meeting point. \nP
 rerequisite: Instructional clinic.\nDistance:  2 miles.\nPace: moderate w
 ith stops to enjoy nature\nTerrain: Some elevation changes\, roots and pin
 e needles.\nFor Your Safety: Consider the weather forecast when booking a 
 walk. WATER MUST BE CARRIED ON ALL WALKS! In consideration of personal and
  group safety\, if you arrive without water\, you will not be allowed to w
 alk. Dress for the weather and protect yourself from the elements. Choose 
 appropriate footwear for trail conditions. Use repellent to protect yourse
 lf from ticks\, which are active year-round. \n\n\n 	Limit 1 walk per day
 .\n 	Wear your CCNW ID badge.\n 	Carbide tips recommended\n 	No restroom f
 acilities available. Bring tissue in a plastic bag in the event of a bio b
 reak need.\n 	If your plans change\, kindly cancel your booking at least 2
 4 hours in advance of walk start time so other walkers may join.\n\nWalk m
 ay be canceled\, changed\, or rescheduled for weather or other reasons. Ca
 ncellation decision will be made at least 2 hours in advance. **Check your
  email (including spam) AND this walk listing and comments\, below\, befor
 e driving to the walk. ** If a walk is canceled\, registrants will receive
  a system-generated email\, and the walk will no longer be visible in the 
 event listing or on the calendar. \nDirections: We will meet and park at t
 he rear end of the parking lot of the Old Yarmouth Inn Restaurant on Rt 6A
  in Yarmouth Port.
ATTACH;FMTTYPE=image/jpeg:https://capecodnordicwalking.org/wp-content/uplo
 ads/2025/06/Yarmouth-Historical-Nature-Trail-scaled.jpg
CATEGORIES:Mid Cape,Walk,Yarmouth
END:VEVENT
BEGIN:VTIMEZONE
TZID:America/New_York
X-LIC-LOCATION:America/New_York
BEGIN:DAYLIGHT
DTSTART:20260308T030000
TZOFFSETFROM:-0500
TZOFFSETTO:-0400
TZNAME:EDT
END:DAYLIGHT
END:VTIMEZONE
END:VCALENDAR