BEGIN:VCALENDAR
VERSION:2.0
PRODID:-//wp-events-plugin.com//6.6.4.4//EN
TZID:America/New_York
X-WR-TIMEZONE:America/New_York
BEGIN:VEVENT
UID:2059@capecodnordicwalking.org
DTSTART;TZID=America/New_York:20260425T093000
DTEND;TZID=America/New_York:20260425T104500
DTSTAMP:20260421T151725Z
URL:https://capecodnordicwalking.org/events/hi-beg-low-intermed-doane-rock
 -to-coast-guard-beach-2-miles-saturday/
SUMMARY:Hi Beg/Low Intermed\, Doane Rock to Coast Guard Beach\, 2 miles\, S
 aturday
DESCRIPTION:Join us as we amble through the woods and along a boardwalk acr
 oss the marsh out to beautiful Coast Guard Beach\, where we will walk alon
 g the sand and watch the seals\, swimmers and surfers enjoy the waves.\n\n
 Meet at 9:15 a.m. for sign-in and stretching to begin walking promptly at 
 9:30 a.m. Hosted by Pat Watson with Sweep TBD.\nPrerequisite: Instructiona
 l Clinic and one prior walk of a minimum of two miles.\n—Distance: 2 mil
 es. No turn-back or shorter option.\n—Pace: Leisurely\n—Terrain: Unpav
 ed with some tree roots and rocks\, pavement and a wooden boardwalk. Mostl
 y flat with one gradual uphill and one downhill slope.\nFor Your Safety: C
 onsider the weather forecast when booking a walk. WATER MUST BE CARRIED ON
  ALL WALKS! In consideration of personal and group safety\, if you arrive 
 without water\, you will not be allowed to walk. Dress for the weather and
  protect yourself from the elements. Choose appropriate footwear for trail
  conditions. Use repellent to protect yourself from ticks\, which are acti
 ve year-round.\n— Limit one walk per day.\n— Wear your CCNW ID badge.\
 n— Restrooms and water are available.\n— If your plans change\, kindly
  cancel your booking at least 24 hours in advance of walk start time so ot
 her walkers may join.\n\nThis walk is authorized under a National Park Ser
 vice Special Use Permit.\n\nWalk may be canceled\, changed\, or reschedule
 d for weather or other reasons. Cancellation decision will be made at leas
 t 2 hours in advance. Check your email (including spam) before driving to 
 the walk. **If a walk is canceled\, registrants will receive a system-gene
 rated email and the walk will no longer be visible in the event listing or
  on the calendar.\nDirections: 400R Doane Rd.\, Eastham\, MA. Please park 
 in the second (rear) parking lot near the covered picnic tables.
ATTACH;FMTTYPE=image/jpeg:https://capecodnordicwalking.org/wp-content/uplo
 ads/2025/08/IMG_9518-scaled.jpg
CATEGORIES:Eastham,Outer Cape
END:VEVENT
BEGIN:VTIMEZONE
TZID:America/New_York
X-LIC-LOCATION:America/New_York
BEGIN:DAYLIGHT
DTSTART:20260308T030000
TZOFFSETFROM:-0500
TZOFFSETTO:-0400
TZNAME:EDT
END:DAYLIGHT
END:VTIMEZONE
END:VCALENDAR