BEGIN:VCALENDAR
VERSION:2.0
PRODID:-//wp-events-plugin.com//6.6.4.4//EN
TZID:America/New_York
X-WR-TIMEZONE:America/New_York
BEGIN:VEVENT
UID:2051@capecodnordicwalking.org
DTSTART;TZID=America/New_York:20260422T160000
DTEND;TZID=America/New_York:20260422T170000
DTSTAMP:20260420T050219Z
URL:https://capecodnordicwalking.org/events/gentle-walk-beginner-robert-sm
 ith-cold-brook-preserve-5-or-1-miles-wednesday/
SUMMARY:Gentle Walk! Beginner - Robert Smith Cold Brook Preserve\; .5 or 1 
 miles  Wednesday
DESCRIPTION:\n 	\n **Discover the Joy of Nordic Walking!** \n\n\nFlat ter
 rain on All Persons trail with wide paths.\n\nMeet at 3:45 (15 minutes pri
 or to walk time] for sign-in and stretching to begin walking promptly at 4
 :00 PM.  Hosted by Patty Creedon\n\n—Prerequisite: Instructional Clinic
 \n\n—Distance: .5 or 1 mile Your choice. Turn back or shorter option ava
 ilable if you need it\n\n—Pace: Slow\n\n—Terrain: All persons trail. W
 ide\, level\, smooth compacted sand or gavel. Comfortable under foot\, not
  like pavement.  Slight incline at beginning / end.\n\nFor Your Safety: C
 onsider the weather forecast when booking a walk. WATER MUST BE CARRIED ON
  ALL WALKS! In consideration of personal and group safety\, if you arrive 
 without water\, you will not be allowed to walk. Dress for the weather and
  protect yourself from the elements. Choose appropriate footwear for trail
  conditions. Use repellent to protect yourself from ticks\, which are acti
 ve year-round.\n\nFeeling uncertain about starting or restarting your Nord
 ic walking journey? You’re not alone! Many feel that it might be too far
  or too difficult\, especially if stamina is a concern. But here’s the g
 ood news: these wide trails are designed with you in mind! With NO incline
 s and some shaded spots\, plenty of stops\, several benches if needed. We 
 will do a 0.5 mile loop incorporating the first two of four bridges and gr
 eat views of the ponds\, returning to close to the parking lot. For those 
 willing and able\, we will turn back the way we came for a 1.0 mile total 
 walk.  No pressure to do the second loop. Great opportunity for anyone re
 covering from an injury or long lay-off from walking to get back in the sw
 ing.\n\nWe go at a very relaxed pace\, taking frequent breaks to catch our
  breath and enjoy the scenery.  So\, what are you waiting for? Step outs
 ide\, connect with nature\, and take the first step towards better health 
 with us. You’ve got this! \n\n—Limit 1 walk per day.\n\n—Wear your 
 CCNW ID badge.\n\n—Rubber tips for crossing bridges\, or carry poles acr
 oss.\n\n—Restrooms and water are not available. Bring tissue in a plasti
 c bag in case of a bio break need.\n\n—If your plans change\, kindly can
 cel your booking at least 24 hours in advance of walk start time so other 
 walkers may join.\n\nWalk may be canceled\, changed\, or rescheduled for w
 eather or other reasons. Cancellation decision will be made at least 2 hou
 rs in advance. Check your email (including spam) before driving to the wal
 k. If a walk is canceled\, registrants will receive a system-generated ema
 il and also the walk will no longer be visible in the event listing or on 
 the calendar.\n\nDirections: 204 Bank St. Harwich at the beautiful newly r
 efurbished Fire House Museum. Free parking. Meet at trail head in the rear
  lot.
ATTACH;FMTTYPE=image/jpeg:https://capecodnordicwalking.org/wp-content/uplo
 ads/2026/03/Cold-Brook-Pic-1.jpg
CATEGORIES:Harwich,Lower Cape,Walk
END:VEVENT
BEGIN:VTIMEZONE
TZID:America/New_York
X-LIC-LOCATION:America/New_York
BEGIN:DAYLIGHT
DTSTART:20260308T030000
TZOFFSETFROM:-0500
TZOFFSETTO:-0400
TZNAME:EDT
END:DAYLIGHT
END:VTIMEZONE
END:VCALENDAR