BEGIN:VCALENDAR
VERSION:2.0
PRODID:-//wp-events-plugin.com//6.6.4.4//EN
TZID:America/New_York
X-WR-TIMEZONE:America/New_York
BEGIN:VEVENT
UID:2074@capecodnordicwalking.org
DTSTART;TZID=America/New_York:20260428T103000
DTEND;TZID=America/New_York:20260428T120000
DTSTAMP:20260424T162616Z
URL:https://capecodnordicwalking.org/events/beginner-wellfleet-bay-wildlif
 e-sanctuary-wellfleet-1-5-miles-tuesday-6/
SUMMARY:Beginner\, Wellfleet Bay Wildlife Sanctuary\, Wellfleet\, 1.5 miles
 \, Tuesday
DESCRIPTION:Come explore the lovely Bay View Trail. Walk through the woods 
 while enjoying views of the bay.\n\nMeet at 10:15am for sign-in and stretc
 hing to begin walk promptly at 10:30am Hosted by Nancy Strianese with Swee
 p TBD\n\n-Prerequisite: Instructional clinic\n\n-Distance: 1.5 miles\n\n-P
 ace: Slower\n\n-Terrain: Varied-hard packed with some roots\, possible mud
 \, possible boardwalk. Rubber tips and carbide\n\nFor Your Safety: Conside
 r the weather forecast when booking a walk.  WATER MUST BE CARRIED ON ALL
  WALKS! In consideration of personal and group safety\, if you arrive with
 out water\, you will not be allowed to walk. Dress for the weather and pro
 tect yourself from the elements.  Choose appropriate footwear for trail c
 onditions. Use repellent to protect yourself from ticks\, which are active
  year-round. WEAR BLAZE ORANGE FOR VISIBILITY AND SAFETY DURING HUNTING SE
 ASON (TURKEY HUNTING SEASON STARTS 4/27).\n\nWe will walk about 1.5 miles 
 of the trail system. This trail loop is a great way to take in the beauty 
 of the wildlife sanctuary. We will walk through the campground\, through t
 he forest then out onto hard packed sand for a short bit where we can see 
 the bay then back into the woods. There are options for those who wish to 
 walk longer at the end of this walk on the Bay View Trail.\n\n-Limit 1 wal
 k per day.\n\n-Wear your CCNW ID badge.\n\n-PARTS OF THE TRAIL COULD BE MU
 DDY. DON'T WEAR YOUR NEW FOOTWEAR IF YOU DON'T WANT TO GET THEM DIRTY.\n\n
 -Restrooms and water are available Tueday-Sunday until 4pm when building c
 loses but there is a porta potty in the parking lot.  Bring tissue in a p
 lastic bag for a bio break.\n\n-If your plans change\, kindly cancel your 
 booking at least 24 hours in advance of walk start time so other walkers m
 ay join the walk.\n\n-This walk is approved by MA Audubon.\n\nMass Audubon
  charges a fee of $8\, over 65 $5\, members are free. There are annual fam
 ily and individual membership that you can sign up for and get more inform
 ation about online.\n\nWalk may be canceled\, changed or rescheduled for w
 eather or other reasons. Cancellation decision will be made at least 2 hou
 rs in advance. Check your email (including spam) and comments before drivi
 ng to the walk.  If a walk is canceled\, registrants will receive a syste
 m generated email and the walk will no longer be visible in the event list
 ing or on the calendar.\n\nDirections: Coming from Eastham on Route 6 look
  for the Wellfleet Motel on the right side of the road and the Wellfleet D
 rive In on the left side of the road. Then look for sign on left side of t
 he road for the Wildlife Sanctuary. You drive down a long drive before arr
 iving at the parking area. Allow extra time as there may be road construct
 ion in the area.\n\nWellfleet Bay Wildlife Sanctuary              
                                                  
                    291 State Highway Route 6              
                                                  
                        South Wellfleet\n\n508-394-2615\n\n&nbsp
 \;\n\n&nbsp\;
ATTACH;FMTTYPE=image/jpeg:https://capecodnordicwalking.org/wp-content/uplo
 ads/2025/04/20231028_110307-scaled.jpg
CATEGORIES:Outer Cape,Walk,Wellfleet
END:VEVENT
BEGIN:VTIMEZONE
TZID:America/New_York
X-LIC-LOCATION:America/New_York
BEGIN:DAYLIGHT
DTSTART:20260308T030000
TZOFFSETFROM:-0500
TZOFFSETTO:-0400
TZNAME:EDT
END:DAYLIGHT
END:VTIMEZONE
END:VCALENDAR