BEGIN:VCALENDAR
VERSION:2.0
PRODID:-//wp-events-plugin.com//6.6.4.4//EN
TZID:America/New_York
X-WR-TIMEZONE:America/New_York
BEGIN:VEVENT
UID:2067@capecodnordicwalking.org
DTSTART;TZID=America/New_York:20260425T123000
DTEND;TZID=America/New_York:20260425T133000
DTSTAMP:20260423T140752Z
URL:https://capecodnordicwalking.org/events/beginner-sandwich-boardwalk-2-
 miles-saturday/
SUMMARY:Beginner\, Sandwich Boardwalk\, 2 miles\, Saturday
DESCRIPTION: We’ll stroll across the new Sandwich Boardwalk\, taking in 
 beautiful views of the low tide salt marshes\, and Mill Creek. We can paus
 e at the bridge for photos of this peaceful area.Then we’ll head down th
 e stairs onto the beach. At low tide\, most of the walk will be damp\, pac
 ked sand. This is a perfect place to practice your technique\, and take pi
 ctures. We’ll head right\, along the beach\, and then retrace our steps\
 , turning around at the big jetty where the seals sometimes hang out. We
 ’ll take the stairs back onto the boardwalk for our return to the parkin
 g lot. \n\n Meet at 12:15 PM  for sign-in and stretching to begin walki
 ng promptly at 12:30 PM. Hosted by Alyson Larrabee with Sweep TBD. \n\n 
 \n\n—Prerequisite: Instructional Clinic\n\n—Distance: approximately 2 
 miles. No turn-back or shorter option. We should be finished in about an h
 our.\n\n—Pace: Slow to moderate with stops for water and photo ops.\n\n
 —Terrain: mostly packed\, damp sand. I like the rubber tips for this wal
 k.\n\n \n\nFor Your Safety: Consider the weather forecast when booking a 
 walk. WATER MUST BE CARRIED ON ALL WALKS! In consideration of personal and
  group safety\, if you arrive without water\, you will not be allowed to w
 alk. Dress for the weather and protect yourself from the elements. Choose 
 appropriate footwear for trail conditions. Use repellent to protect yourse
 lf from ticks\, which are active year-round.\n\n—Limit 1 walk per day.\n
 \n—Wear your CCNW ID badge.  \n\n— Rubber tips are best.\n\n—There
  is no water and there are no bathrooms available in the off-season. There
 ’s no place to sneak behind a bush and take a bio break.\n\n—If your p
 lans change\, kindly cancel your booking at least 24 hours in advance of w
 alk start time so other walkers may join.\n\n \n\nNo parking fee\, becaus
 e it’s after Labor Day and before Memorial Day.\n\n&nbsp\;\n\nThis walk 
 is best at or near low tide\, so please be prompt.\n\n \n\nWalk may be ca
 nceled\, changed\, or rescheduled for weather or other reasons. Cancellati
 on decision will be made at least 2 hours in advance. Check your email (in
 cluding spam) before driving to the walk. If a walk is canceled\, registra
 nts will receive a system-generated email and the walk will no longer be v
 isible in the event listing or on the calendar.\n\n&nbsp\;\n\nWear blaze o
 range for visibility and safety during hunting season.\n\n \n\n 	Directio
 ns: If you’re using a GPS\, put in BOARDWALK BEACH and follow Boardwalk 
 Road to the Sandwich Boardwalk. DO NOT put the phrase “Sandwich Boardwal
 k” into your GPS. You’ll end up in the wrong parking lot.\n 	Follow 6A
  to the traffic light at Jarves Street and head toward the ocean. Take a l
 eft onto Factory Street\, a right onto Harbor Street And a left onto Board
 walk Road. DO NOT follow the directions that will lead you to Wood Ave. Th
 at’s Town Neck Beach\, and we’ll be in the other parking lot.\n\n \n\
 n&nbsp\;\n\n \n\n \n\n \n\n&nbsp\;
ATTACH;FMTTYPE=image/jpeg:https://capecodnordicwalking.org/wp-content/uplo
 ads/2026/04/me-on-the-boardwalk.jpg
CATEGORIES:Sandwich,Walk
END:VEVENT
BEGIN:VTIMEZONE
TZID:America/New_York
X-LIC-LOCATION:America/New_York
BEGIN:DAYLIGHT
DTSTART:20260308T030000
TZOFFSETFROM:-0500
TZOFFSETTO:-0400
TZNAME:EDT
END:DAYLIGHT
END:VTIMEZONE
END:VCALENDAR