BEGIN:VCALENDAR
VERSION:2.0
PRODID:-//wp-events-plugin.com//6.6.4.4//EN
TZID:America/New_York
X-WR-TIMEZONE:America/New_York
BEGIN:VEVENT
UID:2077@capecodnordicwalking.org
DTSTART;TZID=America/New_York:20260427T100000
DTEND;TZID=America/New_York:20260427T113000
DTSTAMP:20260424T185538Z
URL:https://capecodnordicwalking.org/events/beginner-long-pasture-barnstab
 le-1-75-miles-monday/
SUMMARY:Beginner\, Long Pasture\, Barnstable\, 1.75 miles\, Monday
DESCRIPTION:Join me for a walk with Nature. This slower paced walk at the M
 ass Audubon Long Pasture Wildlife Sanctuary will allow for relaxing time w
 ith Beach views\, woodland trails\, ponds\, fields\, and a visit with goat
 s.\n\nMeet at 9:45 am for sign-in and stretching to begin walking promptly
  at 10:00 am. Hosted by Norma Ganderson with sweep TBA.\n\nPrerequisite: I
 nsructional Clinic\n\nDistance: 1.75 miles\n\nPace: slow\n\nTerrain: Grave
 l and Forest paths with one short distance to cross a road. Rubber tips ar
 e not required.\n\nFor your Safety: Consider the weather forecast when boo
 king a walk. WATER MUST BE CARRIED ON ALL Walks! In consideration of perso
 nal and group safety\, if you arrive without water\, you will not be allow
 ed to walk. Dress for the weather and protect yourself from the elements. 
 Choose appropriate footwear for trail conditions. Use repellent to protect
  yourself from ticks\, which are active year-round.\n\nWear blaze orange f
 or visibility and safety during hunting season ( Turkey hunting season sta
 rts 4/27)\n\nLimit 1 walk per day\n\nWear your CCNW ID badge.\n\nRestrooms
  are available at the Visitor Center as well as a water refill station. ( 
 Visitor center closed on Mondays) Porta Potty available.\n\nMembership to 
 Audubon or a $5 daily fee is required.\n\nIf your plans change\, kindly ca
 ncel your booking at least 24 hours in advance of walk start time so other
 s may join.\n\nWalk may be cancelled\, changed\, or rescheduled for weathe
 r or other reasons. Cancellation decision will be made at least 2 hours in
  advance. Check your email (including spam) before driving to the walk. If
  a walk is canceled\, registrants will receive a system-generated email an
 d the walk will not longer be visible in the event listing or on the calen
 dar.\n\nDirections: From Rt. 6A turn onto Bone Hill Rd. Follow about 1/2 m
 ile to Long Pasture on left. Address is 345 Bone Hill Rd.\n\n&nbsp\;
ATTACH;FMTTYPE=image/jpeg:https://capecodnordicwalking.org/wp-content/uplo
 ads/2025/07/LP-Goldfinch-revised-scaled.jpg
CATEGORIES:Barnstable,Mid Cape,Walk
END:VEVENT
BEGIN:VTIMEZONE
TZID:America/New_York
X-LIC-LOCATION:America/New_York
BEGIN:DAYLIGHT
DTSTART:20260308T030000
TZOFFSETFROM:-0500
TZOFFSETTO:-0400
TZNAME:EDT
END:DAYLIGHT
END:VTIMEZONE
END:VCALENDAR