BEGIN:VCALENDAR
VERSION:2.0
PRODID:-//wp-events-plugin.com//6.6.4.4//EN
TZID:America/New_York
X-WR-TIMEZONE:America/New_York
BEGIN:VEVENT
UID:2060@capecodnordicwalking.org
DTSTART;TZID=America/New_York:20260429T083000
DTEND;TZID=America/New_York:20260429T103000
DTSTAMP:20260421T153038Z
URL:https://capecodnordicwalking.org/events/advanced-freemans-way-fields-b
 rewster-4-5-miles-wednesday/
SUMMARY:ADVANCED\, Freeman’s Way Fields\, Brewster\, 4.5 miles\, (Wednesd
 ay)
DESCRIPTION:We will start at the back parking lot at Freeman’s Way Fields
  in Brewster and make our way into Nickerson State Park.  We will walk al
 ong multiple trails leading us to Grassy Nook Pond\, Cliff Pond\, and Ruth
  Pond.  This walk will challenge us with several stretches of elevation a
 s we complete the 4.5-mile trail.  We will encounter beautiful\, wooded t
 rails\, pine needles\, shimmering ponds\, and amazing views.  It’s a wh
 ite pine wonderland!\n\nMeet at 8:15 a.m. to sign in and stretch.  We’l
 l begin walking promptly at 8:30 a.m. Hosted by Rosemary DeVito with TBD S
 weep.  Please read to the bottom for directions to our meeting point.\n\n
 —Prerequisite: Instructional Clinic\; plus the ability to walk on uneven
  terrain for the prescribed distance\, pace and elevation\n—Distance: 4.
 5 miles. No turn-back or shorter option.\n—Pace: Moderate\n—Terrain: A
  combination of well-worn paths with pine needles\, roots\, rocks\, and hi
 lls. Carbide tips required.\n\nFor Your Safety: Consider the weather forec
 ast when booking a walk. WATER MUST BE CARRIED ON ALL WALKS! In considerat
 ion of personal and group safety\, if you arrive without water\, you will 
 not be allowed to walk. Dress for the weather and protect yourself from th
 e elements. Choose appropriate footwear for trail conditions. Use repellen
 t to protect yourself from ticks\, which are active year-round. Wear blaze
  orange for visibility and safety during Spring turkey hunting season.\n\n
 —Limit 1 walk per day.\n—Wear your CCNW ID badge.\n—Restrooms – no
 t available.  Bring tissue in a plastic bag in case a bio break is needed
  on the trail.\n—If your plans change\, kindly cancel your booking at le
 ast 24 hours in advance of walk start time so other walkers may join.\n\nW
 alk may be canceled\, changed\, or rescheduled for weather or other reason
 s. Cancellation decision will be made at least 2 hours in advance. **Check
  your email (including spam) AND this walk listing before driving to the w
 alk. ** If a walk is canceled\, registrants will receive a system-generat
 ed email\, and the walk will no longer be visible in the event listing or 
 on the calendar.\n\nDirections/Location:  Meet at the back parking lot at
  Freeman’s Way Fields\, 815 Freeman’s Way\, Brewster. The entrance is 
 well marked on Freeman’s Way.  Access Freeman’s Way via Route 137.  
 (Do not use Route 39 – access to Freeman’s Way is closed due to the se
 wer project.)
ATTACH;FMTTYPE=image/jpeg:https://capecodnordicwalking.org/wp-content/uplo
 ads/2026/04/IMG_2726-scaled.jpg
CATEGORIES:Brewster,Lower Cape
END:VEVENT
BEGIN:VTIMEZONE
TZID:America/New_York
X-LIC-LOCATION:America/New_York
BEGIN:DAYLIGHT
DTSTART:20260308T030000
TZOFFSETFROM:-0500
TZOFFSETTO:-0400
TZNAME:EDT
END:DAYLIGHT
END:VTIMEZONE
END:VCALENDAR