BEGIN:VCALENDAR
VERSION:2.0
PRODID:-//wp-events-plugin.com//6.6.4.4//EN
TZID:America/New_York
X-WR-TIMEZONE:America/New_York
BEGIN:VEVENT
UID:2053@capecodnordicwalking.org
DTSTART;TZID=America/New_York:20260504T101500
DTEND;TZID=America/New_York:20260504T131500
DTSTAMP:20260420T172859Z
URL:https://capecodnordicwalking.org/events/advanced-beginner-low-intermed
 iate-falmouth-4-miles-monday/
SUMMARY:Advanced Beginner/Low Intermediate\, Falmouth\, 4 miles\, Monday
DESCRIPTION:Enjoy a hike a long the Shining Sea Bike way to Woods Hole. We 
 will stop for a bite at the Woods Hole Market and General Store. If the da
 y is nice we will relax on the rooftop deck and enjoy the view before head
 ing back.\n\nMeet at 10am (15 minutes prior to walk time) to sign in and s
 tretch. We’ll begin walking promptly at 10:15. Hosted by Eileen O'Connel
 l with Sweep TBD. Please read to the bottom for directions to our meeting 
 point.\n—Prerequisite: Instructional Clinic\,  prior walks of at least 
 3 miles\n—Distance: 4 miles. No turn-back or shorter option.\n—Pace: s
 low to moderate\n—Terrain: pavement\n\nFor Your Safety: Consider the wea
 ther forecast when booking a walk. WATER MUST BE CARRIED ON ALL WALKS! In 
 consideration of personal and group safety\, if you arrive without water\,
  you will not be allowed to walk. Dress for the weather and protect yourse
 lf from the elements. Choose appropriate footwear for trail conditions. Us
 e repellent to protect yourself from ticks\, which are active year-round\n
 \n—Limit 1 walk per day.\n—Wear your CCNW ID badge.\n—  rubber tips
 —\n\nRestrooms and water are available. Bring tissue in a plastic bag in
  case of a bio break need.\n\n—If your plans change\, kindly cancel your
  booking at least 24 hours in advance of walk start time so other walkers 
 may join.\n\nWalk may be canceled\, changed\, or rescheduled for weather o
 r other reasons. Cancellation decision will be made at least 2 hours in ad
 vance. **Check your email (including spam) AND this walk listing before dr
 iving to the walk. ** If a walk is canceled\, registrants will receive a 
 system-generated email\, and the walk will no longer be visible in the eve
 nt listing or on the calendar.\n\nDirections:  Trunk River Beach\, Falmou
 th. From the Mashpee rotary - follow MA -28 N towards Falmouth for @ 9 mil
 es. Turn left onto Shore Rd. Follow the road as it bears right. You are no
 w on Surf Drive. Continue past Oyster Pond Rd. Parking lot will be on your
  left.\n\nFrom the Bourne Bridge - take MA-28S  towards Falmouth. MA-S tu
 rns right and becomes Locust St. Slight left onto Mill Rd then right onto 
 Surf Dr.Turn left in 1.2 miles into parking lot. 
CATEGORIES:Falmouth,Walk
END:VEVENT
BEGIN:VTIMEZONE
TZID:America/New_York
X-LIC-LOCATION:America/New_York
BEGIN:DAYLIGHT
DTSTART:20260308T030000
TZOFFSETFROM:-0500
TZOFFSETTO:-0400
TZNAME:EDT
END:DAYLIGHT
END:VTIMEZONE
END:VCALENDAR